BEGIN:VCALENDAR
PRODID:-//eluceo/ical//2.0/EN
VERSION:2.0
CALSCALE:GREGORIAN
BEGIN:VEVENT
UID:41460ef24ff5a5a1044f64a0f2be319c
DTSTAMP:20260420T003008Z
SUMMARY:12:45 pm - JDS Early Dismissal - Students Last Day
DESCRIPTION:Shalom Lehigh Valley\nCommunity Calendar\nhttps://shalomlehighv
 alley.org/calendar/1245-pm-jds-early-dismissal--students-last-day-65182\n\
 nJDS - Students Last Day - Dismissal @ 12:45 pm
DTSTART;TZID=America/New_York:20150612T124500
DTEND;TZID=America/New_York:20150612T124500
END:VEVENT
END:VCALENDAR
