BEGIN:VCALENDAR
PRODID:-//eluceo/ical//2.0/EN
VERSION:2.0
CALSCALE:GREGORIAN
BEGIN:VEVENT
UID:3f908c469dfc3a717d19a8ce4ee31649
DTSTAMP:20260420T185152Z
SUMMARY:12:45 pm JDS Early Dismissal - Erev Rosh Hoshanah
DESCRIPTION:Shalom Lehigh Valley\nCommunity Calendar\nhttps://shalomlehighv
 alley.org/calendar/1245-pm-jds-early-dismissal-64962\n\nJDS Early dismissa
 l - Erev Rosh Hoshanah
DTSTART;TZID=America/New_York:20140924T124500
DTEND;TZID=America/New_York:20140924T124500
END:VEVENT
END:VCALENDAR
