BEGIN:VCALENDAR
PRODID:-//eluceo/ical//2.0/EN
VERSION:2.0
CALSCALE:GREGORIAN
BEGIN:VEVENT
UID:b1ea9ac935e29e51461bf89b8a89a21c
DTSTAMP:20260419T173940Z
SUMMARY:12:45 pm JDS Early Dismissal
DESCRIPTION:Shalom Lehigh Valley\nCommunity Calendar\nhttps://shalomlehighv
 alley.org/calendar/1245pm-jds-early-dismissal-sukkot-10-4-17-238649\n\nCon
 tact Adrienne Manger: amanger@jdslv.org or 610-437-0721.
DTSTART;TZID=America/New_York:20171004T124500
DTEND;TZID=America/New_York:20171004T153000
END:VEVENT
END:VCALENDAR
