BEGIN:VCALENDAR
PRODID:-//eluceo/ical//2.0/EN
VERSION:2.0
CALSCALE:GREGORIAN
BEGIN:VEVENT
UID:4eb267ef47793b96e4ff5aadd1400180
DTSTAMP:20260424T003317Z
SUMMARY:12:00 pm JCC Class Act Workshop
DESCRIPTION:Shalom Lehigh Valley\nCommunity Calendar\nhttps://shalomlehighv
 alley.org/calendar/12pm-jcc-class-act-new-york-workshop-1-21-19-266681\n\n
 Contact Brenda Finberg: bfinberg@lvjcc.org or 610-435-3571.
DTSTART;TZID=America/New_York:20190121T120000
DTEND;TZID=America/New_York:20190121T160000
END:VEVENT
END:VCALENDAR
