BEGIN:VCALENDAR
PRODID:-//eluceo/ical//2.0/EN
VERSION:2.0
CALSCALE:GREGORIAN
BEGIN:VEVENT
UID:84395f8669bff65f988f0ad7e045db60
DTSTAMP:20260420T020007Z
SUMMARY:12pm JCC Stagemakers Performance
DESCRIPTION:Shalom Lehigh Valley\nCommunity Calendar\nhttps://shalomlehighv
 alley.org/calendar/12pm-jcc-stagemakers-performance-1-395323\n\nStagemaker
 s Performance
DTSTART;TZID=America/New_York:20220501T120000
DTEND;TZID=America/New_York:20220501T150000
END:VEVENT
END:VCALENDAR
