BEGIN:VCALENDAR
PRODID:-//eluceo/ical//2.0/EN
VERSION:2.0
CALSCALE:GREGORIAN
BEGIN:VEVENT
UID:1876368e03a6afd7f58c3832d40b7e39
DTSTAMP:20260420T103947Z
SUMMARY:12pm JCC Stagemakers Performance
DESCRIPTION:Shalom Lehigh Valley\nCommunity Calendar\nhttps://shalomlehighv
 alley.org/calendar/12pm-jcc-stagemakers-performance-a-417791\n\nJCC Stagem
 akers Performance
DTSTART;TZID=America/New_York:20230430T120000
DTEND;TZID=America/New_York:20230430T133000
END:VEVENT
END:VCALENDAR
