BEGIN:VCALENDAR
PRODID:-//eluceo/ical//2.0/EN
VERSION:2.0
CALSCALE:GREGORIAN
BEGIN:VEVENT
UID:a897d89a7d39a48c2acc9fc1dffcc785
DTSTAMP:20260419T191001Z
SUMMARY:1:00 pm JCC Community Blood Drive
DESCRIPTION:Shalom Lehigh Valley\nCommunity Calendar\nhttps://shalomlehighv
 alley.org/calendar/1pm-jcc-community-blood-drive-6-15-16-180929\n\nContact
  Jodi Lovenwirth: jlovenwirth@lvjcc.org or 610-435-3571.
DTSTART;TZID=America/New_York:20160615T140000
DTEND;TZID=America/New_York:20160615T180000
END:VEVENT
END:VCALENDAR
