BEGIN:VCALENDAR
PRODID:-//eluceo/ical//2.0/EN
VERSION:2.0
CALSCALE:GREGORIAN
BEGIN:VEVENT
UID:2dd4f188c7189e952450a8c057fbeb6e
DTSTAMP:20260420T034834Z
SUMMARY:1:00 pm JCC Community Blood Drive
DESCRIPTION:Shalom Lehigh Valley\nCommunity Calendar\nhttps://shalomlehighv
 alley.org/calendar/1pm-jcc-community-blood-drive-8-4-16-180930\n\nContact 
 Jodi Lovenwirth: jlovenwirth@lvjcc.org or 610-435-3571.
DTSTART;TZID=America/New_York:20160804T140000
DTEND;TZID=America/New_York:20160804T180000
END:VEVENT
END:VCALENDAR
