BEGIN:VCALENDAR
PRODID:-//eluceo/ical//2.0/EN
VERSION:2.0
CALSCALE:GREGORIAN
BEGIN:VEVENT
UID:edba3c3e58dff1e471eadce83f4be5fe
DTSTAMP:20260420T071703Z
SUMMARY:1:00 pm JCC Games-Adults at the J
DESCRIPTION:Shalom Lehigh Valley\nCommunity Calendar\nhttps://shalomlehighv
 alley.org/calendar/1pm-jcc-games-adults-at-the-j-jan-2017-217966\n\nContac
 t Amy Sams: asams@lvjcc.org or 610-435-3571.
DTSTART;TZID=America/New_York:20170104T130000
DTEND;TZID=America/New_York:20170104T153000
END:VEVENT
END:VCALENDAR
