BEGIN:VCALENDAR
PRODID:-//eluceo/ical//2.0/EN
VERSION:2.0
CALSCALE:GREGORIAN
BEGIN:VEVENT
UID:1d5f48dda757cf8e90e4954bb21c2ccd
DTSTAMP:20260419T161144Z
SUMMARY:1:00 pm JCC Games at the J
DESCRIPTION:Shalom Lehigh Valley\nCommunity Calendar\nhttps://shalomlehighv
 alley.org/calendar/1pm-jcc-games-at-the-j-june-2017-219949\n\nContact Amy 
 Sams: asams@lvjcc.org or 610-435-3571.
DTSTART;TZID=America/New_York:20170607T130000
DTEND;TZID=America/New_York:20170607T153000
END:VEVENT
END:VCALENDAR
