BEGIN:VCALENDAR
PRODID:-//eluceo/ical//2.0/EN
VERSION:2.0
CALSCALE:GREGORIAN
BEGIN:VEVENT
UID:2c202d31c4a9c82074fa0774bd782150
DTSTAMP:20260419T183514Z
SUMMARY:1pm JCC JUniversity Presents - Let's Knit Together
DESCRIPTION:Shalom Lehigh Valley\nCommunity Calendar\nhttps://shalomlehighv
 alley.org/calendar/1pm-jcc-juniversity-presents-lets-knit-together-395868\
 n\nJoin the two part knitting class taught by the talented Harriett Ringol
 d\, a fiber artist for who has a passion for all arts and crafts. Men and 
 women are welcome! The yarn shop will be making packets for everyone.
DTSTART;TZID=America/New_York:20220223T130000
DTEND;TZID=America/New_York:20220223T150000
END:VEVENT
END:VCALENDAR
