BEGIN:VCALENDAR
PRODID:-//eluceo/ical//2.0/EN
VERSION:2.0
CALSCALE:GREGORIAN
BEGIN:VEVENT
UID:ed4f6c5ae47a3b5a939e82684cf85023
DTSTAMP:20260420T215934Z
SUMMARY:1pm JCC Kids Mega Challah Bake
DESCRIPTION:Shalom Lehigh Valley\nCommunity Calendar\nhttps://shalomlehighv
 alley.org/calendar/1pm-jcc-kids-mega-challah-bake-342511\n\nJCC Kids Mega 
 Challah Bake
DTSTART;TZID=America/New_York:20210118T130000
DTEND;TZID=America/New_York:20210118T143000
END:VEVENT
END:VCALENDAR
