BEGIN:VCALENDAR
PRODID:-//eluceo/ical//2.0/EN
VERSION:2.0
CALSCALE:GREGORIAN
BEGIN:VEVENT
UID:ac5c6f6a1ccf0a60aa810a3f86864669
DTSTAMP:20260420T015957Z
SUMMARY:2:00 PM KI Kidstock
DESCRIPTION:Shalom Lehigh Valley\nCommunity Calendar\nhttps://shalomlehighv
 alley.org/calendar/200-pm-ki-kidstock-310985\n\nIntroducing the NEW KI Rel
 igious School on the 50th anniversary of (the other) Woodstock.  Three ho
 urs of friends\, food and a Jewish treasure hunt.  Power to the people! 
  All we are saying\, is give religious school a chance.  Open to any in t
 he community who may be searching for a religious school or who just want 
 to have a good time.  RSVP to the KI office at (610) 435-9074.  Location
 : Muhlenberg lawn between chapel and 23rd street.  Rain location: KI thro
 ugh main door on Chew St.
DTSTART;TZID=America/New_York:20190818T140000
DTEND;TZID=America/New_York:20190818T170000
END:VEVENT
END:VCALENDAR
