BEGIN:VCALENDAR
PRODID:-//eluceo/ical//2.0/EN
VERSION:2.0
CALSCALE:GREGORIAN
BEGIN:VEVENT
UID:0d20072a39e8632f9996885a88d809f7
DTSTAMP:20260420T091747Z
SUMMARY:2016 Campaign & 60 Day Challenge Launch
DESCRIPTION:Shalom Lehigh Valley\nCommunity Calendar\nhttps://shalomlehighv
 alley.org/calendar/2016-campaign-60-day-challenge-launch-148432\n\nCalling
  all volunteers! 
DTSTART;TZID=America/New_York:20151001T193000
DTEND;TZID=America/New_York:20151001T213000
END:VEVENT
END:VCALENDAR
