BEGIN:VCALENDAR
PRODID:-//eluceo/ical//2.0/EN
VERSION:2.0
CALSCALE:GREGORIAN
BEGIN:VEVENT
UID:a0fa1aa0c483df02d5a96923cd05e9dc
DTSTAMP:20260420T123657Z
SUMMARY:2:15 pm Cooking With Miss Brenda
DESCRIPTION:Shalom Lehigh Valley\nCommunity Calendar\nhttps://shalomlehighv
 alley.org/calendar/215pm-cooking-with-miss-brenda-Dec-83928\n\nContact Bre
 nda Finberg: 610-435-3571 x121 or bfinberg@lvjcc.org.
DTSTART;TZID=America/New_York:20141204T141500
DTEND;TZID=America/New_York:20141204T150000
END:VEVENT
END:VCALENDAR
