BEGIN:VCALENDAR
PRODID:-//eluceo/ical//2.0/EN
VERSION:2.0
CALSCALE:GREGORIAN
BEGIN:VEVENT
UID:b79032b33e00648ce7c7e2f7fa5f418a
DTSTAMP:20260420T112856Z
SUMMARY:2:15 pm JCC Cooking With Miss Brenda
DESCRIPTION:Shalom Lehigh Valley\nCommunity Calendar\nhttps://shalomlehighv
 alley.org/calendar/215pm-jcc-cooking-with-miss-brenda-October-83927\n\nCon
 tact Brenda Finberg: 610-435-3571 x121 or bfinberg@lvjcc.org.
DTSTART;TZID=America/New_York:20141023T141500
DTEND;TZID=America/New_York:20141023T150000
END:VEVENT
END:VCALENDAR
