BEGIN:VCALENDAR
PRODID:-//eluceo/ical//2.0/EN
VERSION:2.0
CALSCALE:GREGORIAN
BEGIN:VEVENT
UID:80086248a8e3360c625387761e308fc8
DTSTAMP:20260421T212859Z
SUMMARY:2pm JCC Gallery at the J Hours
DESCRIPTION:Shalom Lehigh Valley\nCommunity Calendar\nhttps://shalomlehighv
 alley.org/calendar/2pm-jcc-gallery-at-the-j-hours-2019-288382\n\nDedicated
  hours for JCC gallery visits
DTSTART;TZID=America/New_York:20190315T140000
DTEND;TZID=America/New_York:20190315T170000
END:VEVENT
END:VCALENDAR
