BEGIN:VCALENDAR
PRODID:-//eluceo/ical//2.0/EN
VERSION:2.0
CALSCALE:GREGORIAN
BEGIN:VEVENT
UID:6f44f12d23e9334ce4aadd960756d57f
DTSTAMP:20260419T123707Z
SUMMARY:2pm JCC Leisure Game of MahJong
DESCRIPTION:Shalom Lehigh Valley\nCommunity Calendar\nhttps://shalomlehighv
 alley.org/calendar/2pm-jcc-leisure-game-of-mahjong-october-414897\n\nCome 
 and play a leisurely game of Mahjong! It's more than just a fun game\, Mah
 jong is a great ways to sharpen your mental acuity and socialize. Price: $
 5 | JCC Members: Free
DTSTART;TZID=America/New_York:20221003T140000
DTEND;TZID=America/New_York:20221003T160000
END:VEVENT
END:VCALENDAR
