BEGIN:VCALENDAR
PRODID:-//eluceo/ical//2.0/EN
VERSION:2.0
CALSCALE:GREGORIAN
BEGIN:VEVENT
UID:3e9e241f465dc5bd672f69ac0ccdaf2b
DTSTAMP:20260420T110931Z
SUMMARY:2pm JCC Leisure Game of MahJong
DESCRIPTION:Shalom Lehigh Valley\nCommunity Calendar\nhttps://shalomlehighv
 alley.org/calendar/2pm-jcc-leisure-game-of-mahjong-sept-414895\n\nCome and
  play a leisurely game of Mahjong! It's more than just a fun game\, Mahjon
 g is a great ways to sharpen your mental acuity and socialize. Price: $5 |
  JCC Members: Free
DTSTART;TZID=America/New_York:20220912T140000
DTEND;TZID=America/New_York:20220912T160000
END:VEVENT
END:VCALENDAR
