BEGIN:VCALENDAR
PRODID:-//eluceo/ical//2.0/EN
VERSION:2.0
CALSCALE:GREGORIAN
BEGIN:VEVENT
UID:2d975500211bcb619bc7431c4529e691
DTSTAMP:20260420T021946Z
SUMMARY:2pm JCC Stagemakers Fall Show
DESCRIPTION:Shalom Lehigh Valley\nCommunity Calendar\nhttps://shalomlehighv
 alley.org/calendar/2pm-jcc-stagemake-Newsies-sun-298503\n\nStagemakers New
 sies
DTSTART;TZID=America/New_York:20191215T140000
DTEND;TZID=America/New_York:20191215T160000
END:VEVENT
END:VCALENDAR
