BEGIN:VCALENDAR
PRODID:-//eluceo/ical//2.0/EN
VERSION:2.0
CALSCALE:GREGORIAN
BEGIN:VEVENT
UID:b8a020d8ad600224fedd1f87332d67e1
DTSTAMP:20260421T204051Z
SUMMARY:2pm JCC Winter Show Performance
DESCRIPTION:Shalom Lehigh Valley\nCommunity Calendar\nhttps://shalomlehighv
 alley.org/calendar/2pm-jcc-winter-show-performance-feb14-337305\n\nWinter 
 Show Performances
DTSTART;TZID=America/New_York:20210214T140000
DTEND;TZID=America/New_York:20210214T160000
END:VEVENT
END:VCALENDAR
