BEGIN:VCALENDAR
PRODID:-//eluceo/ical//2.0/EN
VERSION:2.0
CALSCALE:GREGORIAN
BEGIN:VEVENT
UID:d5b0035d1e356ced0de4b81126922f1e
DTSTAMP:20260421T035919Z
SUMMARY:3:00 pm KI SATORI Chamber Music
DESCRIPTION:Shalom Lehigh Valley\nCommunity Calendar\nhttps://shalomlehighv
 alley.org/calendar/300-pm-ki-satori-chamber-music-5-7-17-194423\n\nContact
  Vikki Dunn: vdunn@kilv.org or 610-435-9074.
DTSTART;TZID=America/New_York:20170507T150000
DTEND;TZID=America/New_York:20170507T170000
END:VEVENT
END:VCALENDAR
