BEGIN:VCALENDAR
PRODID:-//eluceo/ical//2.0/EN
VERSION:2.0
CALSCALE:GREGORIAN
BEGIN:VEVENT
UID:8ad47c748fa00d32d5d7f1304f4c65ca
DTSTAMP:20260419T185954Z
SUMMARY:3:30 pm JDS Friday Dismissal Time Returns to 3:30 pm
DESCRIPTION:Shalom Lehigh Valley\nCommunity Calendar\nhttps://shalomlehighv
 alley.org/calendar/330-pm-jds-friday-dismissal-time-returns-to-330-pm-6516
 8\n\nJDS - Friday dismissal time returns to 3:30 pm
DTSTART;TZID=America/New_York:20150313T153000
DTEND;TZID=America/New_York:20150313T153000
END:VEVENT
END:VCALENDAR
