BEGIN:VCALENDAR
PRODID:-//eluceo/ical//2.0/EN
VERSION:2.0
CALSCALE:GREGORIAN
BEGIN:VEVENT
UID:b4ff615e018b7c7024275c806a2b8397
DTSTAMP:20260420T041706Z
SUMMARY:3:30 pm PJ Library Celebrates Tu B'Shevat
DESCRIPTION:Shalom Lehigh Valley\nCommunity Calendar\nhttps://shalomlehighv
 alley.org/calendar/330-pm-pj-library-celebrates-tu-bshevat-418706\n\nCeleb
 rate Tu B'Shevat - Reduce\, Reuse and Recycle \n\nJoin PJ Library and Mu
 hlenberg College Hillel to learn about Tu B'Shevat\, "The Birthday of the 
 Trees." Experience Tu B'Shevat at stations with reduce\, reuse and recycl
 e themed activities. Snacks\, crafts and\, of course\, a PJ Library story
 !\n\nRegister here. \n\nLocation: Leffell Center for Jewish Student Life\
 , W. Chew Street and 23rd Street Allentown\, PA\n\nContact Abby Trachtman
  with questions: abbyt@jflv.org or 610-821-5500 x321\n\n 
DTSTART;TZID=America/New_York:20230129T153000
DTEND;TZID=America/New_York:20230129T170000
END:VEVENT
END:VCALENDAR
