BEGIN:VCALENDAR
PRODID:-//eluceo/ical//2.0/EN
VERSION:2.0
CALSCALE:GREGORIAN
BEGIN:VEVENT
UID:1ff1c7d78564c92378397f52e1800c66
DTSTAMP:20260420T020245Z
SUMMARY:3:30 p.m. SOI Youth Chanukah Craft Event
DESCRIPTION:Shalom Lehigh Valley\nCommunity Calendar\nhttps://shalomlehighv
 alley.org/calendar/330-pm-soi-youth-chanukah-craft-event-504992\n\nThe Son
 s of Israel Youth Department prresents a Chanukah Craft event on Sunday\, 
 December 7\, at 3:30 p.m.  Cost:  $5 per child\, $15 max per family.  R
 SVP to office@sonsofisrael.net.
DTSTART;TZID=America/New_York:20251207T153000
DTEND;TZID=America/New_York:20251207T173000
END:VEVENT
END:VCALENDAR
