BEGIN:VCALENDAR
PRODID:-//eluceo/ical//2.0/EN
VERSION:2.0
CALSCALE:GREGORIAN
BEGIN:VEVENT
UID:8fc36908eedc6463fa5a3c11b331e4f6
DTSTAMP:20260420T161341Z
SUMMARY:3:30 pm JCC Camp Reunion
DESCRIPTION:Shalom Lehigh Valley\nCommunity Calendar\nhttps://shalomlehighv
 alley.org/calendar/330pm-jcc-camp-reunion-12-30-18-266603\n\nContact Mike 
 Smith at msmith@lvjcc.org or 610-435-3571.
DTSTART;TZID=America/New_York:20181230T153000
DTEND;TZID=America/New_York:20181230T170000
END:VEVENT
END:VCALENDAR
