BEGIN:VCALENDAR
PRODID:-//eluceo/ical//2.0/EN
VERSION:2.0
CALSCALE:GREGORIAN
BEGIN:VEVENT
UID:984f4d2ed1228dffd6d30f14a38f8212
DTSTAMP:20260421T072544Z
SUMMARY:3pm JCC Theater Camp Show
DESCRIPTION:Shalom Lehigh Valley\nCommunity Calendar\nhttps://shalomlehighv
 alley.org/calendar/3pm-jcc-277210\n\nDo Re Me Theater Camp Show
DTSTART;TZID=America/New_York:20180803T150000
DTEND;TZID=America/New_York:20180803T160000
END:VEVENT
END:VCALENDAR
