BEGIN:VCALENDAR
PRODID:-//eluceo/ical//2.0/EN
VERSION:2.0
CALSCALE:GREGORIAN
BEGIN:VEVENT
UID:9fef7fa21848d6624871a830278fd581
DTSTAMP:20260419T213738Z
SUMMARY:PJ Library Celebrates Rosh Hashanah
DESCRIPTION:Shalom Lehigh Valley\nCommunity Calendar\nhttps://shalomlehighv
 alley.org/calendar/3pm-jcc-pj-rosh-303531\n\nTake a “ride” through Isr
 ael with Engineer Ari on a Rosh Hashanah Story walk. Visit different “st
 ations” as you enjoy Rosh Hashanah activities\, crafts\, snacks and\, of
  course\, a PJ Library story. Stations designed by our Israeli shlicha Rot
 em Bar. Free. RSVP to Abby Trachtman at 610-821-5500 or abbyt@jflv.org.
DTSTART;TZID=America/New_York:20190915T150000
DTEND;TZID=America/New_York:20190915T170000
END:VEVENT
END:VCALENDAR
