BEGIN:VCALENDAR
PRODID:-//eluceo/ical//2.0/EN
VERSION:2.0
CALSCALE:GREGORIAN
BEGIN:VEVENT
UID:d62250aa740e4a6d5e5d7e5915faf622
DTSTAMP:20260420T163746Z
SUMMARY:4:00 pm PJ Library and Brith Sholom Tot Shabbat 12/5/25
DESCRIPTION:Shalom Lehigh Valley\nCommunity Calendar\nhttps://shalomlehighv
 alley.org/calendar/400-pm-pj-library-and-brith-sholom-tot-shabbat-12525-49
 1842\n\nJoin PJ Library and Congregation Brith Sholom for a Chanukah Shab
 bat. We'll learn about Shabbat and celebrate with songs and PJ Library sto
 ries. \n\nLight dinner provided.\n\nClick here to register.\n\nQuestions?
  Contact Abby Trachtman 610-821-5500 x321 or abbyt@jflv.org\n\nLocation: C
 ongregation Brith Sholom\, 1190 W Macada Rd\, Bethlehem\, PA 18017\n\n 
DTSTART;TZID=America/New_York:20251205T160000
DTEND;TZID=America/New_York:20251205T170000
END:VEVENT
END:VCALENDAR
