BEGIN:VCALENDAR
PRODID:-//eluceo/ical//2.0/EN
VERSION:2.0
CALSCALE:GREGORIAN
BEGIN:VEVENT
UID:01e73bd661a8087cf3120d1cbc6979fd
DTSTAMP:20260420T200053Z
SUMMARY:4:00 pm JCC Finance Committee Meeting
DESCRIPTION:Shalom Lehigh Valley\nCommunity Calendar\nhttps://shalomlehighv
 alley.org/calendar/400pm-jcc-finance-committee-meeting-12-20-17-245555\n\n
 Contact Sandy Newman: snewman@lvjcc.org or 610-435-3571 x115.
DTSTART;TZID=America/New_York:20171220T170000
DTEND;TZID=America/New_York:20171220T180000
END:VEVENT
END:VCALENDAR
