BEGIN:VCALENDAR
PRODID:-//eluceo/ical//2.0/EN
VERSION:2.0
CALSCALE:GREGORIAN
BEGIN:VEVENT
UID:a4523b12230375bac4e98bae0fee2e34
DTSTAMP:20260419T201333Z
SUMMARY:4:00 pm JFLV-JWRP Women Visit Mikveh
DESCRIPTION:Shalom Lehigh Valley\nCommunity Calendar\nhttps://shalomlehighv
 alley.org/calendar/400pm-jflv-jwrp-women-visit-mikveh-247910\n\nVisit to t
 he Mikveh
DTSTART;TZID=America/New_York:20171105T160000
DTEND;TZID=America/New_York:20171105T173000
END:VEVENT
END:VCALENDAR
