BEGIN:VCALENDAR
PRODID:-//eluceo/ical//2.0/EN
VERSION:2.0
CALSCALE:GREGORIAN
BEGIN:VEVENT
UID:1e6911d5c7455172bea1cde1c9a8c868
DTSTAMP:20260422T150804Z
SUMMARY:4PM JCC The Challah Club
DESCRIPTION:Shalom Lehigh Valley\nCommunity Calendar\nhttps://shalomlehighv
 alley.org/calendar/4pm-jcc-359716\n\nMake and take challah every other wee
 k. Fun flavors\, cool toppings\, and unique braids/shapes. Each session ma
 kes 1 make and take challah to bake at home\, and dough to practice making
  challah for the following week.
DTSTART;TZID=America/New_York:20200910T160000
DTEND;TZID=America/New_York:20200910T170000
END:VEVENT
END:VCALENDAR
