BEGIN:VCALENDAR
PRODID:-//eluceo/ical//2.0/EN
VERSION:2.0
CALSCALE:GREGORIAN
BEGIN:VEVENT
UID:3d2c851e9449ec2309f5752b06b739c2
DTSTAMP:20260420T010556Z
SUMMARY:4:00 pm JCC Budget Hearings
DESCRIPTION:Shalom Lehigh Valley\nCommunity Calendar\nhttps://shalomlehighv
 alley.org/calendar/4pm-jcc-budget-hearings-3-22-16-139102\n\nContact Jeffr
 ey Rembrandt: jrembrandt@lvjcc.org or 610-435-3571 x120.
DTSTART;TZID=America/New_York:20160322T160000
DTEND;TZID=America/New_York:20160322T203000
END:VEVENT
END:VCALENDAR
