BEGIN:VCALENDAR
PRODID:-//eluceo/ical//2.0/EN
VERSION:2.0
CALSCALE:GREGORIAN
BEGIN:VEVENT
UID:05b22a14507b7a2fec16f826e927ceb5
DTSTAMP:20260420T104241Z
SUMMARY:4pm JCC The Challah Club
DESCRIPTION:Shalom Lehigh Valley\nCommunity Calendar\nhttps://shalomlehighv
 alley.org/calendar/4pm-jcc-the-challah-club-373994\n\nPlease join us every
  other Thursday\, 4-5pm. All ages are welcome.\n4/8\, 4/22\, 5/6\, 5/20\
 , 6/3\nIn-person or virtual. Make and take challah every other week. Fun f
 lavors\, cool toppings\, and unique braids/shapes.
DTSTART;TZID=America/New_York:20210408T160000
DTEND;TZID=America/New_York:20210408T170000
END:VEVENT
END:VCALENDAR
