BEGIN:VCALENDAR
PRODID:-//eluceo/ical//2.0/EN
VERSION:2.0
CALSCALE:GREGORIAN
BEGIN:VEVENT
UID:4c95eb1688602b712a88da923907e9c4
DTSTAMP:20260419T145147Z
SUMMARY:5:00 pm AH Jewish Christmas
DESCRIPTION:Shalom Lehigh Valley\nCommunity Calendar\nhttps://shalomlehighv
 alley.org/calendar/5-pm-ah-jewish-christmas-128416\n\nRSVP to elizabethgfe
 ar@gmail.com by 12/20.
DTSTART;TZID=America/New_York:20141225T170000
DTEND;TZID=America/New_York:20141225T190000
END:VEVENT
END:VCALENDAR
