BEGIN:VCALENDAR
PRODID:-//eluceo/ical//2.0/EN
VERSION:2.0
CALSCALE:GREGORIAN
BEGIN:VEVENT
UID:b6e8e22dff47b7606e9341c2cb29df4e
DTSTAMP:20260420T024439Z
SUMMARY:5:00 pm JDS Back to School BBQ / Dinner in the Sukkah
DESCRIPTION:Shalom Lehigh Valley\nCommunity Calendar\nhttps://shalomlehighv
 alley.org/calendar/5-pm-jds-back-to-school-bbq-dinner-in-the-sukkah-10-14-
 14-68171\n\nContact Adrienne Manger: amanger@jdslv.org or 610-437-0721.
DTSTART;TZID=America/New_York:20141014T170000
DTEND;TZID=America/New_York:20141014T190000
END:VEVENT
END:VCALENDAR
