BEGIN:VCALENDAR
PRODID:-//eluceo/ical//2.0/EN
VERSION:2.0
CALSCALE:GREGORIAN
BEGIN:VEVENT
UID:70397d94a1ed408fae27a552fee4c646
DTSTAMP:20260420T174822Z
SUMMARY:5:00 pm KI Welcome Back BBQ
DESCRIPTION:Shalom Lehigh Valley\nCommunity Calendar\nhttps://shalomlehighv
 alley.org/calendar/500-pm-ki-welcome-back-bbq-8-27-17-234844\n\nContact Vi
 kki Dunn: vdunn@kilv.org or 610-435-9074.
DTSTART;TZID=America/New_York:20170827T170000
DTEND;TZID=America/New_York:20170827T190000
END:VEVENT
END:VCALENDAR
