BEGIN:VCALENDAR
PRODID:-//eluceo/ical//2.0/EN
VERSION:2.0
CALSCALE:GREGORIAN
BEGIN:VEVENT
UID:99fff7f78277566625c85b1ad2779b23
DTSTAMP:20260420T125848Z
SUMMARY:5:00 pm KI Winter Gala-Heart and Soul
DESCRIPTION:Shalom Lehigh Valley\nCommunity Calendar\nhttps://shalomlehighv
 alley.org/calendar/500-pm-ki-winter-gala-heart-and-soul-2-8-15-121077\n\nC
 ontact Vikki Dunn: 610-435-9074 or vdunn@kilv.org.
DTSTART;TZID=America/New_York:20150208T170000
DTEND;TZID=America/New_York:20150208T210000
END:VEVENT
END:VCALENDAR
