BEGIN:VCALENDAR
PRODID:-//eluceo/ical//2.0/EN
VERSION:2.0
CALSCALE:GREGORIAN
BEGIN:VEVENT
UID:a2ef1b702a8f730a0ed322e63aefcfa2
DTSTAMP:20260419T155316Z
SUMMARY:5:00 p.m. SOI Persian Feast
DESCRIPTION:Shalom Lehigh Valley\nCommunity Calendar\nhttps://shalomlehighv
 alley.org/calendar/500-pm-soi-persian-feast-302453\n\nPlease join us at ou
 r annual Purim Se'udah for "A Persian Feast" beginning at 5:00 p.m.\, feat
 uring a Henna Artist\, Fortune Teller\, Photo Booth\, Moon Bounce and Live
  Music.  Cost:  Adults: $18\, Children $12 (under Bar/Bat Mitzvah)\, RSV
 P with your payment to the shul office by March 11th.\n\n 
DTSTART;TZID=America/New_York:20190321T170000
DTEND;TZID=America/New_York:20190321T210000
END:VEVENT
END:VCALENDAR
