BEGIN:VCALENDAR
PRODID:-//eluceo/ical//2.0/EN
VERSION:2.0
CALSCALE:GREGORIAN
BEGIN:VEVENT
UID:bdb82b1eca1c7264cffbfc3cfe2ef371
DTSTAMP:20260419T231042Z
SUMMARY:5:00 pm TBE Men's Club Kosher Tailgate BBQ
DESCRIPTION:Shalom Lehigh Valley\nCommunity Calendar\nhttps://shalomlehighv
 alley.org/calendar/500-pm-tbe-mens-club-kosher-tailgate-bbq-140016\n\nCont
 act Michelle Rohrbach: michelle@bethelallentown.org or 610-435-3521.
DTSTART;TZID=America/New_York:20150707T170000
DTEND;TZID=America/New_York:20150707T190000
END:VEVENT
END:VCALENDAR
