BEGIN:VCALENDAR
PRODID:-//eluceo/ical//2.0/EN
VERSION:2.0
CALSCALE:GREGORIAN
BEGIN:VEVENT
UID:39c9362104197f8b003d696dac84c4c2
DTSTAMP:20260419T190117Z
SUMMARY:5:00 pm TBE Ron Wolfson Lecture and Dessert
DESCRIPTION:Shalom Lehigh Valley\nCommunity Calendar\nhttps://shalomlehighv
 alley.org/calendar/500-pm-tbe-ron-wolfson-lecture-and-dessert-4-3-16-17974
 7\n\nContact Michelle Rohrbach: michelle@bethelallentown.org or 610-435-35
 21.
DTSTART;TZID=America/New_York:20160402T170000
DTEND;TZID=America/New_York:20160402T193000
END:VEVENT
END:VCALENDAR
