BEGIN:VCALENDAR
PRODID:-//eluceo/ical//2.0/EN
VERSION:2.0
CALSCALE:GREGORIAN
BEGIN:VEVENT
UID:76595ca3d7a1efcea595250191c02ccd
DTSTAMP:20260419T153801Z
SUMMARY:5:30 JCC Celebrates Hanukkah at Lights in the Parkway
DESCRIPTION:Shalom Lehigh Valley\nCommunity Calendar\nhttps://shalomlehighv
 alley.org/calendar/530-jcc-506404\n\nThe JCC is celebrating Hanukkah durin
 g Move It Monday at Lights in the Parkway on Monday\, December 15. See the
  lights for FREE as you get your steps in and visit the JCC table for a dr
 eidel. You'll also find snacks from Sunshing Cafe. Enjoy a unique experien
 ce by walking\, running\, or biking through the light displays. This free 
 event is open to all ages and abilities and provides a special opportunity
  to enjoy the holiday magic up close.\nParking & Event Info
DTSTART;TZID=America/New_York:20251215T173000
DTEND;TZID=America/New_York:20251215T190000
END:VEVENT
END:VCALENDAR
