BEGIN:VCALENDAR
PRODID:-//eluceo/ical//2.0/EN
VERSION:2.0
CALSCALE:GREGORIAN
BEGIN:VEVENT
UID:6986acf7405eddd7bded33f5ca56be92
DTSTAMP:20260420T162356Z
SUMMARY:5:30 pm Congregation Brith Sholom Gala Auction III
DESCRIPTION:Shalom Lehigh Valley\nCommunity Calendar\nhttps://shalomlehighv
 alley.org/calendar/530-pm-congregation-brith-sholom-gala-auction-iii-13145
 8\n\nAdmission:$25 pp. Contact Tammy Watts: tammy@brithsholom.net or 610-8
 66-8009.
DTSTART;TZID=America/New_York:20150517T173000
DTEND;TZID=America/New_York:20150517T210000
END:VEVENT
END:VCALENDAR
