BEGIN:VCALENDAR
PRODID:-//eluceo/ical//2.0/EN
VERSION:2.0
CALSCALE:GREGORIAN
BEGIN:VEVENT
UID:009c1718e3f6c8b39c983138abf248b2
DTSTAMP:20260420T183750Z
SUMMARY:5:30 pm JFLV Allocations Conferences Day 1
DESCRIPTION:Shalom Lehigh Valley\nCommunity Calendar\nhttps://shalomlehighv
 alley.org/calendar/530-pm-jflv-allocations-conferences-day-1-4-27-17-18243
 7\n\nContact Mark Goldstein: markg@jflv.org/610-821-5500 x325.
DTSTART;TZID=America/New_York:20170427T173000
DTEND;TZID=America/New_York:20170427T203000
END:VEVENT
END:VCALENDAR
