BEGIN:VCALENDAR
PRODID:-//eluceo/ical//2.0/EN
VERSION:2.0
CALSCALE:GREGORIAN
BEGIN:VEVENT
UID:53b390f039d4bdb49de79712fa7f4e4d
DTSTAMP:20260420T163656Z
SUMMARY:5:30 pm JFLV Allocations Conferences Day 2
DESCRIPTION:Shalom Lehigh Valley\nCommunity Calendar\nhttps://shalomlehighv
 alley.org/calendar/530-pm-jflv-allocations-conferences-day-2-5-3-17-182438
 \n\nContact Mark Goldstein: markg@jflv.org/610-821-5500 x325.
DTSTART;TZID=America/New_York:20170503T173000
DTEND;TZID=America/New_York:20170503T204500
END:VEVENT
END:VCALENDAR
