BEGIN:VCALENDAR
PRODID:-//eluceo/ical//2.0/EN
VERSION:2.0
CALSCALE:GREGORIAN
BEGIN:VEVENT
UID:8522a3b2688922212cbe310b5b80f93a
DTSTAMP:20260419T185207Z
SUMMARY:5:30 PM JFLV Shalom Lehigh Valley Agency & Synagogue Meeting
DESCRIPTION:Shalom Lehigh Valley\nCommunity Calendar\nhttps://shalomlehighv
 alley.org/calendar/530-pm-jflv-shalom-lehigh-valley-agency-synagogue-meeti
 ng-180868\n\nRepresentatives from synagogues and agencies will gather to t
 alk about the upcoming edition of Shalom Lehigh Valley.
DTSTART;TZID=America/New_York:20160218T173000
DTEND;TZID=America/New_York:20160218T183000
END:VEVENT
END:VCALENDAR
