BEGIN:VCALENDAR
PRODID:-//eluceo/ical//2.0/EN
VERSION:2.0
CALSCALE:GREGORIAN
BEGIN:VEVENT
UID:e3267316f84efe1a033a629d01a0ffa5
DTSTAMP:20260421T035949Z
SUMMARY:5:30 pm TBE Ganim/1st Grade Service
DESCRIPTION:Shalom Lehigh Valley\nCommunity Calendar\nhttps://shalomlehighv
 alley.org/calendar/530-pm-tbe-ganim-1st-grade-service-3303\n\n5:30 pm TBE 
 Ganim/1st Grade Service
DTSTART;TZID=America/New_York:20130301T173000
DTEND;TZID=America/New_York:20130301T183000
END:VEVENT
END:VCALENDAR
