BEGIN:VCALENDAR
PRODID:-//eluceo/ical//2.0/EN
VERSION:2.0
CALSCALE:GREGORIAN
BEGIN:VEVENT
UID:f71df80f749f19e06cc6cf705771e731
DTSTAMP:20260419T222421Z
SUMMARY:5:30 pm TBE Jewish Family Ed Simchat Torah Program
DESCRIPTION:Shalom Lehigh Valley\nCommunity Calendar\nhttps://shalomlehighv
 alley.org/calendar/530-pm-tbe-jewish-family-ed-simchat-torah-program-10-5-
 15-140109\n\nRSVP by 9-21-15. Contact Michelle Rohrbach: michelle@bethelal
 lentown.org or 610-435-3521.
DTSTART;TZID=America/New_York:20151005T173000
DTEND;TZID=America/New_York:20151005T193000
END:VEVENT
END:VCALENDAR
