BEGIN:VCALENDAR
PRODID:-//eluceo/ical//2.0/EN
VERSION:2.0
CALSCALE:GREGORIAN
BEGIN:VEVENT
UID:4062dbd8cae2a4c39e962325aaf04c1f
DTSTAMP:20260419T123808Z
SUMMARY:5:30 pm Annual JDS Community Chanukah Celebration
DESCRIPTION:Shalom Lehigh Valley\nCommunity Calendar\nhttps://shalomlehighv
 alley.org/calendar/530pm-annual-jds-community-chanukah-celebration-12-17-1
 7-250561\n\nRSVP to Adrienne at amanger@jdslv.org
DTSTART;TZID=America/New_York:20171217T173000
DTEND;TZID=America/New_York:20171217T193000
END:VEVENT
END:VCALENDAR
