BEGIN:VCALENDAR
PRODID:-//eluceo/ical//2.0/EN
VERSION:2.0
CALSCALE:GREGORIAN
BEGIN:VEVENT
UID:9498b686a734e0efeed5e2af95750b97
DTSTAMP:20260422T204327Z
SUMMARY:5:30PM JCC JCC Sukkot Community Program Rain Date
DESCRIPTION:Shalom Lehigh Valley\nCommunity Calendar\nhttps://shalomlehighv
 alley.org/calendar/530pm-jcc-359806\n\nRain Date. Explore the fall holiday
  of Sukkot with the JCC.
DTSTART;TZID=America/New_York:20201006T173000
DTEND;TZID=America/New_York:20201006T190000
END:VEVENT
END:VCALENDAR
